BEGIN:VCALENDAR
VERSION:2.0
PRODID:-//JR Restaurant Group - ECPv6.15.20//NONSGML v1.0//EN
CALSCALE:GREGORIAN
METHOD:PUBLISH
X-WR-CALNAME:JR Restaurant Group
X-ORIGINAL-URL:https://jrrestaurantgroup.com
X-WR-CALDESC:Events for JR Restaurant Group
REFRESH-INTERVAL;VALUE=DURATION:PT1H
X-Robots-Tag:noindex
X-PUBLISHED-TTL:PT1H
BEGIN:VTIMEZONE
TZID:UTC
BEGIN:STANDARD
TZOFFSETFROM:+0000
TZOFFSETTO:+0000
TZNAME:UTC
DTSTART:20250101T000000
END:STANDARD
END:VTIMEZONE
BEGIN:VEVENT
DTSTART;TZID=UTC:20260502T160000
DTEND;TZID=UTC:20260502T180000
DTSTAMP:20260423T145731
CREATED:20260323T231220Z
LAST-MODIFIED:20260323T231334Z
UID:10000248-1777737600-1777744800@jrrestaurantgroup.com
SUMMARY:Catch-A- Dream
DESCRIPTION:
URL:https://jrrestaurantgroup.com/event/catch-a-dream-2/
LOCATION:Bass Pro Shop\, Pearl\, MS\, United States
CATEGORIES:Event
ATTACH;FMTTYPE=image/webp:https://jrrestaurantgroup.com/wp-content/uploads/2026/03/footerlogo.webp
END:VEVENT
END:VCALENDAR